BEGIN:VCALENDAR
VERSION:2.0
PRODID:-//EWSoftware//EWSoftware PDI Class Library//EN
BEGIN:VEVENT
UID:E3494873-C359-430F-8516-27F91FCC6B2C
DTSTART:20260420T100000Z
DTEND:20260421T200000Z
SUMMARY:Texas Pinners Conference and Expo
DESCRIPTION:WHO: –? Texas Pinners Conference - Pinterest-inspired conferenc
 e and expo featuring 200 top business contributors.    \n \n WHAT: Pinners
  Conference is excited to host its Pinterest-inspired conference on Friday
 \, Sept. 30\, and Saturday\, Oct. 1\, in the Dallas-Fort Worth Metroplex.
  Attendees can learn\, create\, connect and shop the latest DIY trends ins
 pired by creativity and passion for craft-making. The two-day conference a
 nd expo will provide 100+ Pinterest-based classes taught by experts in DIY
 \, home décor\, food arts\, fashion\, beauty\, self-improvement\, party-pl
 anning\, photography and a full tradeshow floor with over 300 vendors. Vis
 it tx.pinnersconference.com for more information. To stay updated with the
  Pinners Conference in Texas\, check out @pinnersconf on all platforms. Do
 n’t forget to follow the #PinnersTX and #pinnersconf to follow this event!
    \n \n WHEN: The event will occur Friday\, Sept. 30\, from 10 a.m. to 8
  p.m. and Saturday\, Oct. 1\, from 9 a.m. to 7 p.m.   \n \n WHERE: Texas P
 inners Conference will be hosted at Will Rogers Memorial Center\, located
  at 3401 W Lancaster Ave\, Fort Worth\, Texas 76107.    \n \n COST: Genera
 l admission is $10 and includes access to the tradeshow shopping floor. Ch
 ildren 8 and under are free. Class materials sold separately. Multi-day pa
 sses are available .   \n \n SPONSORS: The Home Depot\, Ryobi\, Chalk Cout
 ure\, Joann’s\, Plaid Crafts\, Texas Appliances\, Janome and MakerFlo Craf
 ts.\nWill Rogers Memorial Center\n3401 W Lancaster Ave\nFort Worth\, TX 76
 107 United States\n
LOCATION:3401 W Lancaster Ave\, Fort Worth\, TX 76107
URL:http://garland.bubblelife.com/community/garland_calendar/library/356715
 71/key/3511647303/Texas_Pinners_Conference_and_Expo
CREATED:20220627T203134Z
LAST-MODIFIED:20220627T203134Z
DTSTAMP:20260420T121017Z
RRULE:FREQ=DAILY;WKST=FR
CLASS:PUBLIC
STATUS:CONFIRMED
TRANSP:TRANSPARENT
SEQUENCE:1
END:VEVENT
BEGIN:VEVENT
UID:52E1DF1A-26B1-440E-B007-6450B166577E
DTSTART:20260420T170000Z
DTEND:20260420T180000Z
SUMMARY:Mixology Mondays at The Parlor
DESCRIPTION:Mixology Mondays classes are hosted weekly at  The Parlor \, in
 side Sheraton Dallas \, from 5-6pm. The cocktail featured varies weekly an
 d reservations are required. The cost is $30/per person which does not inc
 lude tax and gratuity. The interactive mixology classes are led by the hot
 el’s talented Mixologist\, Adam\, who has explored more than 43 countries
  and worked at luxury properties and bars across the world. Guests can hav
 e fun mixing a cocktail and then enjoy the delicious creation. Reservation
 s are required.  \n Complimentary parking at any of the hotel’s restaurant
 s and bars for up to 4 hours is available in the hotel’s parking garage ac
 ross the street from the front entrance. Please bring your parking ticket
  and present it for validation.  \n Reservations can be made here: https:/
 /activities.travelcurious.com/book/marriott-com-daldh?opa-deeplink=1ee5eda
 7-0aaf-6156-8177-3110f231cef5 .\nSheraton Dallas Hotel\n400 North Olive St
 reet\nDallas\, TX 75201 United States\n
LOCATION:400 North Olive Street\, Dallas\, TX 75201
URL:http://garland.bubblelife.com/community/garland_calendar/library/356715
 71/key/3511274382/Mixology_Mondays_at_The_Parlor
CREATED:20240510T130315Z
LAST-MODIFIED:20240510T130315Z
DTSTAMP:20260420T121017Z
RRULE:FREQ=WEEKLY;BYDAY=MO
CLASS:PUBLIC
STATUS:CONFIRMED
TRANSP:TRANSPARENT
SEQUENCE:1
END:VEVENT
BEGIN:VEVENT
UID:F599875B-401F-437E-9D29-018094FFF2E3
DTSTART:20260422T183000Z
DTEND:20260422T203000Z
SUMMARY:Trivia Wednesdays at Lakewood Brewing
DESCRIPTION:WHAT: America’s Pub Quiz is back on Wednesday nights at Lakewoo
 d Brewing Co. as the best live-hosted trivia show brings its free quiz nig
 hts to the North Dallas brewery and taproom. Dallas’ own maker of the numb
 er one craft milk stout in Texas will be pouring their current lineup of f
 all and winter beers ranging from seasonal favorite\, Punkel\, to Salted C
 aramel Temptress\, and the new NuTemptress. Most of Lakewood’s current lin
 e-up is available not only at the Taproom\, but also on shelves statewide.
  \nThe North Texas brewery and taproom recently opened its first-ever kitc
 hen featuring appetizers\, salads\, sandwiches\, flatbread pizzas\, and sw
 eets\, many that have tastes of Lakewood fan favorite beers. Lakewood\, wh
 ich just celebrated 10 years of making Seriously Fun Beer\, also recently
  updated its sweeping covered outdoor beergarden and added new booths\, se
 ating and murals throughout. Their new “Lakewood Loft” is a speakeasy-insp
 ired private event space with a bird’s eye view of Lakewood’s massive tank
 s below. \nWHEN: Wednesdays\, 6:30 to 8:30 p.m. \nWHERE: Lakewood Brewing
  Company 2302 Executive Drive\, Garland 75041 \nCOST: Free \nLINK: www.lak
 ewoodbrewing.com \nCONTACT: Ariel Herr\, 469-235-2708\, arielcherr@gmail.c
 om MORE: Lakewood Brewing Company is a family-owned\, independent craft br
 ewery and kitchen that makes Seriously Fun Beer that goes great with its s
 eriously good food. Lakewood exploded onto the DFW brewing scene in 2012 a
 nd became famous for its Temptress Imperial Milk Stout\, which is now the
  best-selling craft stout in Texas. Its diverse beer portfolio includes ye
 ar-round\, seasonal\, and limited barrel-aged and sour beers. \nLakewood h
 as been recognized nationally in major beer competitions including: U.S. B
 eer Tasting Championship\, U.S. Open Beer Championship\, San Diego\, Denve
 r and Los Angeles International Beer Competitions among others. Lakewood b
 eers are available throughout Texas at discerning bars\, restaurants\, and
  retailers. For the Lakewood Taproom location and a “find our beer” tool\,
  visit lakewoodbrewing.com.\nLakewood Brewing Company\n2302 Executive Driv
 e\nGarland\, TX 75041 United States\n
LOCATION:2302 Executive Drive\, Garland\, TX 75041
URL:http://garland.bubblelife.com/community/garland_calendar/library/356715
 71/key/3511510593/Trivia_Wednesdays_at_Lakewood_Brewing
CREATED:20221118T180314Z
LAST-MODIFIED:20221118T180314Z
DTSTAMP:20260420T121017Z
RRULE:FREQ=WEEKLY;WKST=WE;BYDAY=WE
CLASS:PUBLIC
STATUS:CONFIRMED
TRANSP:TRANSPARENT
SEQUENCE:1
END:VEVENT
BEGIN:VEVENT
UID:95F0EFFC-3F65-4B08-9F2C-93556E0D06F1
DTSTART:20260422T183000Z
DTEND:20260422T203000Z
SUMMARY:Trivia Wednesdays at Lakewood Brewing
DESCRIPTION:WHAT: America’s Pub Quiz is back on Wednesday nights at Lakewoo
 d Brewing Co. as the best live-hosted trivia show brings its free quiz nig
 hts to the North Dallas brewery and taproom. Dallas’ own maker of the numb
 er one craft milk stout in Texas will be pouring their current lineup of f
 all and winter beers ranging from seasonal favorite\, Punkel\, to Salted C
 aramel Temptress\, and the new NuTemptress. Most of Lakewood’s current lin
 e-up is available not only at the Taproom\, but also on shelves statewide.
  \nThe North Texas brewery and taproom recently opened its first-ever kitc
 hen featuring appetizers\, salads\, sandwiches\, flatbread pizzas\, and sw
 eets\, many that have tastes of Lakewood fan favorite beers. Lakewood\, wh
 ich just celebrated 10 years of making Seriously Fun Beer\, also recently
  updated its sweeping covered outdoor beergarden and added new booths\, se
 ating and murals throughout. Their new “Lakewood Loft” is a speakeasy-insp
 ired private event space with a bird’s eye view of Lakewood’s massive tank
 s below. \nWHEN: Wednesdays\, 6:30 to 8:30 p.m. \nWHERE: Lakewood Brewing
  Company 2302 Executive Drive\, Garland 75041 \nCOST: Free \nLINK: www.lak
 ewoodbrewing.com \nCONTACT: Ariel Herr\, 469-235-2708\, arielcherr@gmail.c
 om \nMORE: Lakewood Brewing Company is a family-owned\, independent craft
  brewery and kitchen that makes Seriously Fun Beer that goes great with it
 s seriously good food. Lakewood exploded onto the DFW brewing scene in 201
 2 and became famous for its Temptress Imperial Milk Stout\, which is now t
 he best-selling craft stout in Texas. Its diverse beer portfolio includes
  year-round\, seasonal\, and limited barrel-aged and sour beers. \nLakewoo
 d has been recognized nationally in major beer competitions including: U.S
 . Beer Tasting Championship\, U.S. Open Beer Championship\, San Diego\, De
 nver and Los Angeles International Beer Competitions among others. Lakewoo
 d beers are available throughout Texas at discerning bars\, restaurants\,
  and retailers. For the Lakewood Taproom location and a “find our beer” to
 ol\, visit lakewoodbrewing.com.\nLakewood Brewing Company\n2302 Executive
  Drive\nGarland\, TX 75041 United States\n
LOCATION:2302 Executive Drive\, Garland\, TX 75041
URL:http://garland.bubblelife.com/community/garland_calendar/library/356715
 71/key/3511510054/Trivia_Wednesdays_at_Lakewood_Brewing
CREATED:20221118T173135Z
LAST-MODIFIED:20221118T173135Z
DTSTAMP:20260420T121017Z
RRULE:FREQ=WEEKLY;WKST=WE;BYDAY=WE
CLASS:PUBLIC
STATUS:CONFIRMED
TRANSP:TRANSPARENT
SEQUENCE:1
END:VEVENT
BEGIN:VEVENT
UID:966D39D3-2235-465D-A57C-2E741032A9F5
DTSTART:20260422T183000Z
DTEND:20260422T203000Z
SUMMARY:Trivia Wednesdays at Lakewood Brewing
DESCRIPTION:WHAT: America’s Pub Quiz is back on Wednesday nights at Lakewoo
 d Brewing Co. as the best live-hosted trivia show brings its free quiz nig
 hts to the North Dallas brewery and taproom. Dallas’ own maker of the numb
 er one craft milk stout in Texas will be pouring their current lineup of f
 all and winter beers ranging from seasonal favorite\, Punkel\, to Salted C
 aramel Temptress\, and the new NuTemptress. Most of Lakewood’s current lin
 e-up is available not only at the Taproom\, but also on shelves statewide.
  \nThe North Texas brewery and taproom recently opened its first-ever kitc
 hen featuring appetizers\, salads\, sandwiches\, flatbread pizzas\, and sw
 eets\, many that have tastes of Lakewood fan favorite beers. Lakewood\, wh
 ich just celebrated 10 years of making Seriously Fun Beer\, also recently
  updated its sweeping covered outdoor beergarden and added new booths\, se
 ating and murals throughout. Their new “Lakewood Loft” is a speakeasy-insp
 ired private event space with a bird’s eye view of Lakewood’s massive tank
 s below. \nWHEN: Wednesdays\, 6:30 to 8:30 p.m. \nWHERE: Lakewood Brewing
  Company 2302 Executive Drive\, Garland 75041 \nCOST: Free \nLINK: www.lak
 ewoodbrewing.com \nCONTACT: Ariel Herr\, 469-235-2708\, arielcherr@gmail.c
 om MORE: Lakewood Brewing Company is a family-owned\, independent craft br
 ewery and kitchen that makes Seriously Fun Beer that goes great with its s
 eriously good food. Lakewood exploded onto the DFW brewing scene in 2012 a
 nd became famous for its Temptress Imperial Milk Stout\, which is now the
  best-selling craft stout in Texas. Its diverse beer portfolio includes ye
 ar-round\, seasonal\, and limited barrel-aged and sour beers. \nLakewood h
 as been recognized nationally in major beer competitions including: U.S. B
 eer Tasting Championship\, U.S. Open Beer Championship\, San Diego\, Denve
 r and Los Angeles International Beer Competitions among others. Lakewood b
 eers are available throughout Texas at discerning bars\, restaurants\, and
  retailers. For the Lakewood Taproom location and a “find our beer” tool\,
  visit lakewoodbrewing.com.\nLakewood Brewing Company\n2302 Executive Driv
 e\nGarland\, TX 75041 United States\n
LOCATION:2302 Executive Drive\, Garland\, TX 75041
URL:http://garland.bubblelife.com/community/garland_calendar/library/356715
 71/key/3511512882/Trivia_Wednesdays_at_Lakewood_Brewing
CREATED:20221118T180037Z
LAST-MODIFIED:20221118T180037Z
DTSTAMP:20260420T121017Z
RRULE:FREQ=WEEKLY;WKST=WE;BYDAY=WE
CLASS:PUBLIC
STATUS:CONFIRMED
TRANSP:TRANSPARENT
SEQUENCE:1
END:VEVENT
BEGIN:VEVENT
UID:7353C744-03D5-4614-A1EB-D8D53826F65F
DTSTART:20260423T090000Z
DTEND:20260423T140000Z
SUMMARY:Senior Thursday
DESCRIPTION:All seniors over the age of 60 are welcome to join us for a del
 icious lunch\, light exercise\, a chance to socialize with friends\, and t
 he occasional entertainer or guest speaker! For more information\, call 97
 2-234-8880 ext. 105\nNetwork of Community Ministries\n1500 International P
 arkway Ste 300\nRichardson\, TX 75081 United States\n
LOCATION:1500 International Parkway Ste 300\, Richardson\, TX 75081
URL:http://garland.bubblelife.com/community/garland_calendar/library/356715
 71/key/3511640340/Senior_Thursday
CREATED:20220621T153316Z
LAST-MODIFIED:20220621T153316Z
DTSTAMP:20260420T121017Z
RRULE:FREQ=WEEKLY;WKST=TH;BYDAY=TH
CLASS:PUBLIC
STATUS:CONFIRMED
TRANSP:TRANSPARENT
SEQUENCE:1
END:VEVENT
BEGIN:VEVENT
UID:F87F24BE-9AF3-4221-BAF9-F7121FF6D9B2
DTSTART:20260423T120000Z
DTEND:20260604T130000Z
SUMMARY:Call for Artists
DESCRIPTION:We are always searching for new artists to join our Giddens Gal
 lery family.  Email Michele@giddensgallery.com to inquire.\nGiddens Galler
 y of Fine Art\n624 South Main St\nGrapevine\, TX 76051 United States\n
LOCATION:624 South Main St\, Grapevine\, TX 76051
URL:http://garland.bubblelife.com/community/garland_calendar/library/356715
 71/key/3511219561/Call_for_Artists
CREATED:20240126T170248Z
LAST-MODIFIED:20240126T170248Z
DTSTAMP:20260420T121017Z
RRULE:FREQ=WEEKLY;WKST=FR;BYDAY=TH
CLASS:PUBLIC
STATUS:CONFIRMED
TRANSP:TRANSPARENT
SEQUENCE:1
END:VEVENT
BEGIN:VEVENT
UID:F2EBB3B0-D23F-4994-A573-32A68DBD4376
DTSTART:20260423T200000Z
DTEND:20260423T230000Z
SUMMARY:Trivia Thursdays at Sheraton Dallas Hotel
DESCRIPTION:Trivia Thursdays are held every Thursday in Draft Sports Bar &
  Lounge in Sheraton Dallas Hotel at 8pm hosted by the Dallas Trivia Guy.
     \n Parking validation is available for attendees up to 4 hours.\nShera
 ton Dallas Hotel\n400 N Olive St\nDallas\, TX 75201 United States\n
LOCATION:400 N Olive St\, Dallas\, TX 75201
URL:http://garland.bubblelife.com/community/garland_calendar/library/356715
 71/key/3511283371/Trivia_Thursdays_at_Sheraton_Dallas_Hotel
CREATED:20240419T204639Z
LAST-MODIFIED:20240419T204639Z
DTSTAMP:20260420T121017Z
RRULE:FREQ=WEEKLY;WKST=TH;BYDAY=TH
CLASS:PUBLIC
STATUS:CONFIRMED
TRANSP:TRANSPARENT
SEQUENCE:1
END:VEVENT
BEGIN:VEVENT
UID:BC2B7E9D-088B-48BA-BAEE-8E68419A012F
DTSTART:20260425T100000Z
DTEND:20260615T190000Z
SUMMARY:Scarborough Renaissance Festival 45th Season
DESCRIPTION:Scarborough Renaissance Festival celebrates its 45th season Apr
 il 4–May 25\, 2026\, in Waxahachie\, Texas (2511 FM 66\, approximately 30
  minutes south of downtown Dallas). The popular outdoor festival is open S
 aturdays\, Sundays and Memorial Day Monday from 10 a.m.–7 p.m. \n Visitors
  step into a re-created 16th-century English village filled with immersive
  entertainment for all ages\, including full-combat jousting\, birds of pr
 ey exhibitions\, live music and comedy\, interactive performances\, games
  of skill and human-powered rides. The event also features one of the nati
 on’s largest outdoor juried artisan marketplaces with more than 200 handcr
 afted shops. 2026 THEMED WEEKENDS \n April 4–5: Opening Weekend & Easter C
 elebration — Opening Day pageantry\, Easter Egg Stroll for children\, and
  a Renaissance-style Easter service on Sunday. Children 12 and under are a
 dmitted free opening weekend\; seniors 65+ receive a gate discount. \n Apr
 il 11–12: Artisan’s Showcase Weekend — A spotlight on Scarborough’s artisa
 n community with live demonstrations and more than 200 handcrafted shoppes
 . \n April 18–19: Barbarian Weekend — High-energy costuming\, themed conte
 sts and bold village revelry. \n April 25–26: Celtic Weekend & Deaf Awaren
 ess Day — Celtic music and dance throughout the village\; Saturday feature
 s select ASL-interpreted performances. \n May 2–3: Spring Celebration & Ch
 ivalry Weekend — Maypole dancing\, floral traditions\, chivalry lessons an
 d vow renewals. \n May 9–10: Flights of Fantasy Weekend & Mother’s Day — F
 antasy\, cosplay and fairy folklore\; children 12 and under are admitted f
 ree on Mother’s Day Sunday. \n May 16–17: Legends of the Seas Weekend — Pi
 rates\, mermaids and nautical-themed adventures. \n May 23–25: The Last Hu
 zzah! Memorial Day Weekend — Season finale featuring music\, celebration a
 nd a Memorial Day Veterans Parade and Fallen Heroes Tribute on Monday. \n
  General admission is $34 for adults (13+) and $14 for children (5–12)\; c
 hildren 4 and under are free. Discount tickets are available at select Tom
  Thumb and Albertsons locations. Season passes and memberships are also of
 fered. For schedules and tickets\, visit www.SRFestival.com .\nScarborough
  Renaissance Festival\n2511 FM 66\nWaxahachie\, TX 75167 United States\n
LOCATION:2511 FM 66\, Waxahachie\, TX 75167
URL:http://garland.bubblelife.com/community/garland_calendar/library/356715
 71/key/3511730604/Scarborough_Renaissance_Festival_45th_Season
CREATED:20260304T222633Z
LAST-MODIFIED:20260304T222633Z
DTSTAMP:20260420T121017Z
RRULE:FREQ=WEEKLY;UNTIL=20260525T000000Z;WKST=SA;BYDAY=SU,SA
CLASS:PUBLIC
STATUS:CONFIRMED
TRANSP:TRANSPARENT
SEQUENCE:1
END:VEVENT
BEGIN:VEVENT
UID:FF0EFD02-974A-4DCD-A0B6-7364AC322EBC
DTSTART:20260426T160000Z
DTEND:20260426T180000Z
SUMMARY:Revive the Culture HBCU Power Camp Showcase
DESCRIPTION:Get ready for an electrifying celebration of HBCU culture\, mus
 ic\, and performance excellence at the 6th Annual TSMAC Revive the Culture
  HBCU Power Camp Showcase presented by  Texas Supremacy of Music & Arts Co
 nservatory .   This highly anticipated event will highlight the talent\, e
 nergy\, and passion of students who have spent two days immersed in an int
 ensive music and leadership experience\, guided by top HBCU clinicians and
  mentors. Expect high-energy performances\, powerful musical showcases\, a
 nd dynamic choreography as students bring the HBCU marching band experienc
 e to life! From drumlines to dance teams and full-band performances\, this
  showcase will be a must-see for all music lovers\, HBCU supporters\, and
  community members. Tickets are FREE but you must register .\nEllis Davis
  Fieldhouse\n9191 S. Polk Rd\nDallas\, TX 75232 United States\n
LOCATION:9191 S. Polk Rd\, Dallas\, TX 75232
URL:http://garland.bubblelife.com/community/garland_calendar/library/356715
 71/key/3511776474/Revive_the_Culture_HBCU_Power_Camp_Showcase
CREATED:20260325T210753Z
LAST-MODIFIED:20260325T210753Z
DTSTAMP:20260420T121017Z
CLASS:PUBLIC
STATUS:CONFIRMED
TRANSP:TRANSPARENT
SEQUENCE:1
END:VEVENT
BEGIN:VEVENT
UID:C1C401F8-B301-4392-AAA5-D70CD7595C33
DTSTART:20260501T000000Z
DTEND:20260506T000000Z
SUMMARY:Southfork Trade Days!  Outdoor market
DESCRIPTION:Southfork Ranch\, made famous by the show\, DALLAS\, in the 80'
 s is hosting a monthly outdoor Trade Days market .  You find all kinds of
  one-of-a-kind items\, such as boutique clothing\, jewelry\, salsa\, beef
  jerky\, shoes\, books\, home decor\, yard art\, t-shirts\, children's clo
 thing\, puppies\, custom furniture\, art and even a psychic!  Family and d
 og friendly!  January is also featuring live entertainment by a one-man ba
 nd\, Walter Strauss and horse and carriage rides!  See our Facebook page f
 or more details:  Trade Days at Southfork Ranch.
URL:http://garland.bubblelife.com/community/garland_calendar/library/356715
 71/key/3511591581/Southfork_Trade_Days_Outdoor_market
CREATED:20230110T161027Z
LAST-MODIFIED:20230110T161027Z
DTSTAMP:20260420T121017Z
RRULE:FREQ=MONTHLY;WKST=FR;BYMONTHDAY=1
CLASS:PUBLIC
STATUS:CONFIRMED
TRANSP:TRANSPARENT
SEQUENCE:1
END:VEVENT
BEGIN:VEVENT
UID:60DE1AFB-802C-42A6-A811-D26F662D9628
DTSTART:20260503T110000Z
DTEND:20260503T140000Z
SUMMARY:Low cost pet vaccination clinic
DESCRIPTION:AAT is happy to be holding low cost pet vaccination clinics on
  the first Sunday and third Saturday of the month at our storefront\; loca
 ted at 3630 N. Shiloh Road\, #201\, Garland\, TX 75044. \nThe vaccination
  package is $30 for dogs\, which includes rabies\, DHLPP and Bordetella \n
 The cat package is $25.00\, which includes rabies and FVRCP. Feline Leukem
 ia can be vaccinated against for an additional $15.00. \nPuppy and kitten
  vaccinations are $15.00 which include DHLPP and Dewormer. \nOur Microchip
 s are $20.00 and come with a lifetime registration. \nOne of our partner v
 ets will always be on hand to graciously see your pets. We hope to see you
  soon\, and please spread the word!\nAnimal Allies of Texas\n3630 N Shiloh
  Road\, #201\nGarland\, TX 75044 United States\n
LOCATION:3630 N Shiloh Road\, #201\, Garland\, TX 75044
URL:http://garland.bubblelife.com/community/garland_calendar/library/356715
 71/key/3514370900/Low_cost_pet_vaccination_clinic
CREATED:20220216T202629Z
LAST-MODIFIED:20220216T202629Z
DTSTAMP:20260420T121017Z
RRULE:FREQ=MONTHLY;WKST=SU;BYDAY=1SU
CLASS:PUBLIC
STATUS:CONFIRMED
TRANSP:TRANSPARENT
SEQUENCE:1
END:VEVENT
BEGIN:VEVENT
UID:D46D32B8-06B3-4BD6-893D-EF7393D36F56
DTSTART:20260503T110000Z
DTEND:20260503T140000Z
SUMMARY:Low cost pet vaccination clinic
DESCRIPTION:Join us for our monthly low cost pet vaccination clinic. All an
 nual shots\, rabies vaccine\, dog\, cat\, puppy and kitten packages\, micr
 ochips\, and heartworm tests will be offered by a veterinarian. Low cost h
 eartworm preventative is also available. No appointment is needed. \n  \n
  \n DOGS \n- Annual Package includes Rabies\, DHLPP and Bordetella Vaccine
 s $30 (you save $10 with the package) \n- Individual Rabies Vaccine $10 \n
 - DHLPP \n- Bordetella $15 \n- First shots and dewormed for puppies under
  12 weeks $15 \n- Heartworm Exam For Dogs $15 \n  \n CATS \n- Annual Cat P
 ackage includes Rabies Vaccine and FVRCP $25 (you save $5 with the package
 ). \n- Rabies $10 \n- FVRCP $20 \n- First shots and dewormed for kittens u
 nder 12 weeks $15 \n  \n- Microchip with Lifetime Registration $20 \n  \n
   \n  \n  \n PERROS \n- Paquete Anual incluye vacunas de Rabia\, DHLPP y B
 ordetella $30 (te ahorras $10 con el paquete) \n- Vacuna individual para R
 abia $10 \n- Vacuna individual para DHLPP \n- Vacuna individual para Borde
 tella $15 \n- Primeras vacuna y desparasitados para cachorros menores de 1
 2 semanas $15 \n- Examen de lombriz en el corazón para perros $15 \n  \n G
 ATOS \n- Paquete Anual para Gatos incluye vacuna de Rabia y FVRCP $25(te a
 horras $5 con el paquete). \n- Vacuna individual de Rabia $10 \n- Vacuna i
 ndividual de FVRCP $20 \n- Primeras vacunas y desparasitados para gatitos
  menores de 12 semanas $15 \n- Microchip con registration de por vida $20.
 \nAnimal Allies of Texas\n3630 N Shiloh Rd\, Suite 201\nGarland\, TX 75044
  United States\n
LOCATION:3630 N Shiloh Rd\, Suite 201\, Garland\, TX 75044
URL:http://garland.bubblelife.com/community/garland_calendar/library/356715
 71/key/3511937013/Low_cost_pet_vaccination_clinic
CREATED:20230821T161102Z
LAST-MODIFIED:20230821T161102Z
DTSTAMP:20260420T121017Z
RRULE:FREQ=MONTHLY;WKST=SU;BYDAY=1SU
CLASS:PUBLIC
STATUS:CONFIRMED
TRANSP:TRANSPARENT
SEQUENCE:1
END:VEVENT
BEGIN:VEVENT
UID:A5DB2AE7-1D10-4296-933A-311F1F065786
DTSTART:20260506T193000Z
DTEND:20260506T213000Z
SUMMARY:Meadows Lyric Theatre: “The Magic Flute”
DESCRIPTION:The Magic Flute  by Wolfgang Amadeus Mozart gets an updated ada
 ptation and new text from Meadows Lyric Theatre director Andreas Mitisek i
 n this new version of the classic opera. Under the blazing Texas sun\, Moz
 art's enchanting opera receives a Lone Star remix when tornado chaser Tami
 no storms into mystical transformation. Can Pamina escape her oil executiv
 e Queen mother's corporate empire? Can Papageno\, owner of Lone Star Chick
 en Wings\, find his soulmate between serving up secret recipes? This reima
 gining complete with Sarastro's new age wellness retreat\, a motley cast o
 f characters\, and Mozart's soaring melodies ensures this supercharged 2.0
  version of love\, power\, and transformation is a perfect twister... \n
    \n To purchase tickets online\, please visit  https://smu.universitytic
 kets.com . For more information call 214-768-2787.\nBob Hope Theatre\nOwen
  Arts Center\, 6101 Bishop Blvd. on SMU campus\nDallas\, TX 75205 United S
 tates\n
LOCATION:Owen Arts Center\, 6101 Bishop Blvd. on SMU campus\, Dallas\, TX 7
 5205
URL:http://garland.bubblelife.com/community/garland_calendar/library/356715
 71/key/3511787612/Meadows_Lyric_Theatre_The_Magic_Flute
CREATED:20260218T220630Z
LAST-MODIFIED:20260218T220630Z
DTSTAMP:20260420T121017Z
CLASS:PUBLIC
STATUS:CONFIRMED
TRANSP:TRANSPARENT
SEQUENCE:1
END:VEVENT
BEGIN:VEVENT
UID:E13786B8-A7FB-47EA-9D02-8FDE67C6DD2E
DTSTART:20260507T190000Z
DTEND:20260507T200000Z
SUMMARY:Main Library Book Club for Adults
DESCRIPTION:Join the Book Club when it meets on the first Thursday of each
  month at 7pm in the meeting room. Enjoy sharing and discussing books with
  other readers! For ages 18 & older.\nMesquite Main Library\n300 W. Grubb
  Dr\nMesquite\, TX 75419 United States\n
LOCATION:300 W. Grubb Dr\, Mesquite\, TX 75419
URL:http://garland.bubblelife.com/community/garland_calendar/library/356715
 71/key/3511371122/Main_Library_Book_Club_for_Adults
CREATED:20250715T210900Z
LAST-MODIFIED:20250715T210900Z
DTSTAMP:20260420T121017Z
RRULE:FREQ=MONTHLY;WKST=TH;BYDAY=1TH
CLASS:PUBLIC
STATUS:CONFIRMED
TRANSP:TRANSPARENT
SEQUENCE:1
END:VEVENT
BEGIN:VEVENT
UID:0B9FC467-CBA5-45FC-8513-95177F4B1842
DTSTART:20260612T000000Z
DTEND:20260616T000000Z
SUMMARY:DCMS Women in Medicine Leadership Conference
DESCRIPTION:Join us for the Dallas County Medical Society 2026 Women in Med
 icine Leadership Conference\, a two-day experience designed to inspire\, c
 onnect\, and equip women at every stage of their medical journey. From hig
 h school students exploring healthcare careers to practicing physicians an
 d healthcare leaders\, this conference creates space for meaningful dialog
 ue\, mentorship\, and professional growth. \n Reserve Your Spot Now \nThe
  program will feature dynamic keynote speakers\, interactive breakout sess
 ions\, leadership development opportunities\, and structured networking. D
 edicated tracks will support high school and pre-med college students\, me
 dical students\, residents/fellows\, and practicing physicians\, with inte
 ntional opportunities for cross-generational mentorship and collaboration.
  \nWhether you are early in your career path or an established leader in m
 edicine\, this conference will provide practical tools\, authentic convers
 ations\, and lasting connections to help you thrive\, not just survive\, i
 n today’s healthcare environment. \n Event at a Glance Dynamic keynote spe
 akers and interactive sessions focused on leadership advancement  Structur
 ed opportunities to connect with peers\, mentors\, and emerging leaders  D
 edicated tracks allow experienced physicians to mentor medical students an
 d residents while gaining fresh perspectives  Evidence-based strategies fo
 r thriving in today's challenging healthcare environment  Strengthen the p
 ipeline of women leaders in Dallas-area medicine CME eligible sessions \n
  Sponsorship & Marketing Opportunities \nSponsorships and marketing tables
  are available for organizations interested in supporting women in medicin
 e and connecting with physician leaders\, trainees\, and students. This is
  a unique opportunity to align your brand with leadership development\, me
 ntorship\, and the future of healthcare in North Texas. For sponsorship in
 formation\, please contact Nishi Badhwar at  nishi@dallas-cms.org .\nScott
 ish Rite for Children\n2222 Welborn St\nDallas\, TX 75219 United States\n
LOCATION:2222 Welborn St\, Dallas\, TX 75219
URL:http://garland.bubblelife.com/community/garland_calendar/library/356715
 71/key/3511772004/DCMS_Women_in_Medicine_Leadership_Conference
CREATED:20260410T212059Z
LAST-MODIFIED:20260410T212059Z
DTSTAMP:20260420T121017Z
CLASS:PUBLIC
STATUS:CONFIRMED
TRANSP:TRANSPARENT
SEQUENCE:1
END:VEVENT
METHOD:PUBLISHED
SUMMARY:Garland Calendar
CALSCALE:GREGORIAN
X-WR-CALNAME:Garland Calendar
X-WR-TIMEZONE:Central Standard Time
END:VCALENDAR
