BEGIN:VCALENDAR
VERSION:2.0
BEGIN:VEVENT
UID:D3C51AE4-8D12-4660-8B39-0DCD773B7F41
DTSTART:20230903T110000Z
DTEND:20230903T140000Z
SUMMARY:Low cost pet vaccination clinic
DESCRIPTION:Join us for our monthly low cost pet vaccination clinic. All an
 nual shots\, rabies vaccine\, dog\, cat\, puppy and kitten packages\, micr
 ochips\, and heartworm tests will be offered by a veterinarian. Low cost h
 eartworm preventative is also available. No appointment is needed. \n  \n
  \n DOGS \n- Annual Package includes Rabies\, DHLPP and Bordetella Vaccine
 s $30 (you save $10 with the package) \n- Individual Rabies Vaccine $10 \n
 - DHLPP \n- Bordetella $15 \n- First shots and dewormed for puppies under
  12 weeks $15 \n- Heartworm Exam For Dogs $15 \n  \n CATS \n- Annual Cat P
 ackage includes Rabies Vaccine and FVRCP $25 (you save $5 with the package
 ). \n- Rabies $10 \n- FVRCP $20 \n- First shots and dewormed for kittens u
 nder 12 weeks $15 \n  \n- Microchip with Lifetime Registration $20 \n  \n
   \n  \n  \n PERROS \n- Paquete Anual incluye vacunas de Rabia\, DHLPP y B
 ordetella $30 (te ahorras $10 con el paquete) \n- Vacuna individual para R
 abia $10 \n- Vacuna individual para DHLPP \n- Vacuna individual para Borde
 tella $15 \n- Primeras vacuna y desparasitados para cachorros menores de 1
 2 semanas $15 \n- Examen de lombriz en el corazón para perros $15 \n  \n G
 ATOS \n- Paquete Anual para Gatos incluye vacuna de Rabia y FVRCP $25(te a
 horras $5 con el paquete). \n- Vacuna individual de Rabia $10 \n- Vacuna i
 ndividual de FVRCP $20 \n- Primeras vacunas y desparasitados para gatitos
  menores de 12 semanas $15 \n- Microchip con registration de por vida $20.
 \nAnimal Allies of Texas\n3630 N Shiloh Rd\, Suite 201\nGarland\, TX 75044
  United States\n
LOCATION:3630 N Shiloh Rd\, Suite 201\, Garland\, TX 75044
URL:http://garland.bubblelife.com/community/garland_calendar/library/356715
 71/key/3511937013/Low_cost_pet_vaccination_clinic
CREATED:20230821T161102Z
LAST-MODIFIED:20230821T161102Z
DTSTAMP:20260426T013906Z
RRULE:FREQ=MONTHLY;WKST=SU;BYDAY=1SU
CLASS:PUBLIC
STATUS:CONFIRMED
TRANSP:TRANSPARENT
SEQUENCE:1
END:VEVENT
END:VCALENDAR
