BEGIN:VCALENDAR
VERSION:2.0
BEGIN:VEVENT
UID:CB2A35EF-3BD8-43A7-A9A0-B320AAFC152E
DTSTART:20220629T180000Z
DTEND:20220629T190000Z
SUMMARY:Texans Can Academy Graduation
DESCRIPTION:Texas Can Academy Graduation please visit the CCC website for m
 ore information.\nCurtis Culwell Center\n4999 Naaman Forest BLVD\nGarland\
 , TX 75040 United States\n
LOCATION:4999 Naaman Forest BLVD\, Garland\, TX 75040
URL:http://garland.bubblelife.com/community/curtis_culwell_center/library/3
 52843033/key/3511646701/Texans_Can_Academy_Graduation
CREATED:20220620T161521Z
LAST-MODIFIED:20220620T161521Z
DTSTAMP:20260420T090210Z
CLASS:PUBLIC
STATUS:CONFIRMED
TRANSP:TRANSPARENT
SEQUENCE:1
END:VEVENT
END:VCALENDAR
