BEGIN:VCALENDAR
VERSION:2.0
BEGIN:VEVENT
UID:F414B654-7B3E-4A85-9702-EA39B1F89793
DTSTART:20240525T080000Z
DTEND:20240525T100000Z
SUMMARY:Mesquite HS Graduation
DESCRIPTION:\nCurtis Culwell Center\n4999 Naaman Forest BLVD\nGarland\, TX
  75040 United States\n
LOCATION:4999 Naaman Forest BLVD\, Garland\, TX 75040
URL:http://garland.bubblelife.com/community/curtis_culwell_center/library/3
 52843033/key/3511287853/Mesquite_HS_Graduation
CREATED:20240423T201321Z
LAST-MODIFIED:20240423T201321Z
DTSTAMP:20260421T112333Z
CLASS:PUBLIC
STATUS:CONFIRMED
TRANSP:TRANSPARENT
SEQUENCE:1
END:VEVENT
END:VCALENDAR
